BEGIN:VCALENDAR
VERSION:2.0
PRODID:gruene-hksbr.de
METHOD:PUBLISH
BEGIN:VTIMEZONE
TZID:Europe/Berlin
X-LIC-LOCATION:Europe/Berlin
BEGIN:DAYLIGHT
TZOFFSETFROM:+0100
TZOFFSETTO:+0200
TZNAME:CEST
DTSTART:19700329T020000
RRULE:FREQ=YEARLY;INTERVAL=1;BYDAY=-1SU;BYMONTH=3
END:DAYLIGHT
BEGIN:STANDARD
TZOFFSETFROM:+0200
TZOFFSETTO:+0100
TZNAME:CET
DTSTART:19701025T030000
RRULE:FREQ=YEARLY;INTERVAL=1;BYDAY=-1SU;BYMONTH=10
END:STANDARD
END:VTIMEZONE
BEGIN:VEVENT
UID:e3b0100d3775cd33a522906dfc7fcb76@gruene-hksbr.de
URL;VALUE=URI:https://gruene-hksbr.de/termine/radltour-zur-kugleralm/
LOCATION:
SUMMARY:Grüne Radltour zur Kugleralm
DESCRIPTION;ALTREP="data:text/html,%0A%3Cfigure%20class%3D%22wp-block-ima
 ge%20size-full%20is-resized%22%3E%3Cimg%20src%3D%22https%3A%2F%2Fgruene-h
 ksbr.de%2Fwp-content%2Fuploads%2Fsites%2F25%2F2025%2F06%2Fsharepic_kugler
 alm_2025-1.png%22%20alt%3D%22%22%20class%3D%22wp-image-2956%22%20style%3D
 %22width%3A900px%3Bheight%3Aauto%22%20%2F%3E%3C%2Ffigure%3E%0A%0A%0A%0A%3
 Cp%3E%3C%2Fp%3E%0A%0A%0A%0A%3Cp%3E%3Cstrong%3EUnsere%20Gr%C3%BCne%20Radlt
 our%20zur%20Kugler-Alm%20%F0%9F%9A%B4%E2%80%8D%E2%99%80%EF%B8%8F%3C%2Fstr
 ong%3E%20%3Cem%3E%23Stadtradeln2025%3C%2Fem%3E%3C%2Fp%3E%0A%0A%0A%0A%3Cp%
 3E%F0%9F%93%8D%2014%3A00%3A%20Treffen%20am%20Maibaum%20H%C3%B6henkirchen%
 3Cbr%3E%F0%9F%8D%BB%2015%3A00%3A%20Ankunft%20Kugler%20Alm%3Cbr%3E%F0%9F%9
 A%B2%2017%3A00%3A%20Offizielle%20R%C3%BCckfahrt%20%28Nat%C3%BCrlich%20kan
 n%20jeder%20auch%20eher%2Fsp%C3%A4ter%20fahren%29%3C%2Fp%3E%0A%0A%0A%0A%3
 Cp%3E%3Cstrong%3EInfos%20zur%20Strecke%20-%20Offizielle%20ADFC%20H%C3%B6S
 i%20Radltour%3Cbr%3E%3C%2Fstrong%3E%3Ca%20href%3D%22https%3A%2F%2Fhoehenk
 irchen-siegertsbrunn.adfc.de%2Fneuigkeit%2Fzur-kugler-alm%22%20target%3D%
 22_blank%22%20rel%3D%22noopener%22%3Ehttps%3A%2F%2Fhoehenkirchen-siegerts
 brunn.adfc.de%2Fneuigkeit%2Fzur-kugler-alm%3C%2Fa%3E%3C%2Fp%3E%0A%0A%0A%0
 A%3Cul%20class%3D%22wp-block-list%22%3E%0A%3Cli%3E30%20km%20%3D%26nbsp%3B
 ca.%202h%20hin%20und%20zur%C3%BCck%3C%2Fli%3E%0A%0A%0A%0A%3Cli%3EFamilien
 geeignet%3C%2Fli%3E%0A%0A%0A%0A%3Cli%3EFlach%20und%20sicher%2C%26nbsp%3B%
 20zum%20Gro%C3%9Fteil%20Schotter%3C%2Fli%3E%0A%0A%0A%0A%3Cli%3EKugler%20A
 lm%20mit%20tollem%20Biergarten%20und%20Spielplatz%3C%2Fli%3E%0A%3C%2Ful%3
 E%0A%0A%0A%0A%3Cp%3E%3Cstrong%3EKomoot-Link%3C%2Fstrong%3E%3Cbr%3E%3Ca%20
 href%3D%22https%3A%2F%2Fwww.komoot.com%2Fde-de%2Ftour%2F1673600510%22%20t
 arget%3D%22_blank%22%20rel%3D%22noopener%22%3Ehttps%3A%2F%2Fwww.komoot.co
 m%2Fde-de%2Ftour%2F1673600510%3C%2Fa%3E%3C%2Fp%3E%0A%0A%0A%0A%3Cp%3E%3Cst
 rong%3EWichtig%20f%C3%BCr%20alle%20Mitradelnden%3A%3C%2Fstrong%3E%3Cbr%3E
 Damit%20wir%20sicher%20und%20mit%20Freude%20unterwegs%20sind%2C%20gelten%
 20ein%20paar%20einfache%20Regeln%3A%3Cbr%3E%3Cbr%3E%F0%9F%94%94%20Euer%20
 Rad%20muss%20verkehrstauglich%20sein%20%28zwei%20Bremsen%20%26amp%3B%20Kl
 ingel%21%29%3Cbr%3E%F0%9F%93%8F%20Wir%20halten%20uns%20an%20die%20StVO%3C
 br%3E%F0%9F%9A%B4%E2%80%8D%E2%99%80%EF%B8%8F%20%3Cstrong%3EKeiner%20f%C3%
 A4hrt%20vor%20Moni%2C%20keiner%20hinter%20Gregor%3C%2Fstrong%3E%20%F0%9F%
 98%89%3Cbr%3E%E2%9A%A0%EF%B8%8F%20Und%20nicht%20vergessen%3A%20Jede%2Ar%2
 0f%C3%A4hrt%20auf%20eigene%20Verantwortung%3C%2Fp%3E%0A%0A%0A%0A%3Cp%3E%3
 Cbr%3E%F0%9F%92%9A%20%3Cstrong%3EMacht%20mit%20beim%20Stadtradeln%202025%
 21%3C%2Fstrong%3E%20%3Cbr%3EUnser%20Team%20%3Cstrong%3E%3Ca%20href%3D%22h
 ttps%3A%2F%2Fwww.stadtradeln.de%2Findex.php%3Fid%3D171%26amp%3BL%3D0%26am
 p%3Bteam_preselect%3D64011%22%3E%E2%80%9EGreen%20Machines%E2%80%9C%3C%2Fa
 %3E%3C%2Fstrong%3E%20freut%20sich%20auf%20euch%20%E2%80%93%20gemeinsam%20
 sammeln%20wir%20Kilometer%20f%C3%BCr%20ein%20gutes%20Klima%21%3C%2Fp%3E%0
 A%0A%0A%0A%3Cp%3E%3C%2Fp%3E%0A%0A%0A%0A%3Cp%3E%3Cstrong%3EWir%20freuen%20
 uns%20auf%20einen%20tollen%20Tag%20mit%20euch%21%20%3C%2Fstrong%3E%3C%2Fp
 %3E%0A":Unsere Grüne Radltour zur Kugler-Alm 🚴‍♀️ #Stadtradeln2
 025\n\n📍 14:00: Treffen am Maibaum Höhenkirchen🍻 15:00: Ankunft Ku
 gler Alm🚲 17:00: Offizielle Rückfahrt (Natürlich kann jeder auch ehe
 r/später fahren)\n\nInfos zur Strecke - Offizielle ADFC HöSi Radltourht
 tps://hoehenkirchen-siegertsbrunn.adfc.de/neuigkeit/zur-kugler-alm\n\n30 
 km = ca. 2h hin und zurück\n\nFamiliengeeignet\n\nFlach und sicher\,  
 zum Großteil Schotter\n\nKugler Alm mit tollem Biergarten und Spielplatz
 \n\nKomoot-Linkhttps://www.komoot.com/de-de/tour/1673600510\n\nWichtig f
 ür alle Mitradelnden:Damit wir sicher und mit Freude unterwegs sind\, ge
 lten ein paar einfache Regeln:🔔 Euer Rad muss verkehrstauglich sein (z
 wei Bremsen & Klingel!)📏 Wir halten uns an die StVO🚴‍♀️ Keine
 r fährt vor Moni\, keiner hinter Gregor 😉⚠️ Und nicht vergessen: 
 Jede*r fährt auf eigene Verantwortung\n\n💚 Macht mit beim Stadtradeln
  2025! Unser Team „Green Machines“ freut sich auf euch – gemeinsam 
 sammeln wir Kilometer für ein gutes Klima!\n\nWir freuen uns auf einen t
 ollen Tag mit euch!
CLASS:PUBLIC
DTSTART;TZID=Europe/Berlin:20250706T140000
DTEND;TZID=Europe/Berlin:20250706T170000
DTSTAMP:20260421T102139
END:VEVENT
END:VCALENDAR