BEGIN:VCALENDAR
VERSION:2.0
PRODID:gruene-hksbr.de
METHOD:PUBLISH
BEGIN:VTIMEZONE
TZID:Europe/Berlin
X-LIC-LOCATION:Europe/Berlin
BEGIN:DAYLIGHT
TZOFFSETFROM:+0100
TZOFFSETTO:+0200
TZNAME:CEST
DTSTART:19700329T020000
RRULE:FREQ=YEARLY;INTERVAL=1;BYDAY=-1SU;BYMONTH=3
END:DAYLIGHT
BEGIN:STANDARD
TZOFFSETFROM:+0200
TZOFFSETTO:+0100
TZNAME:CET
DTSTART:19701025T030000
RRULE:FREQ=YEARLY;INTERVAL=1;BYDAY=-1SU;BYMONTH=10
END:STANDARD
END:VTIMEZONE
BEGIN:VEVENT
UID:de3aea50fa6e8d9c74cd74f99859a109@gruene-hksbr.de
URL;VALUE=URI:https://gruene-hksbr.de/termine/stadtradeln-2025/
LOCATION:Höhenkirchen-Siegertsbrunn
SUMMARY:Stadtradeln 2025
DESCRIPTION;ALTREP="data:text/html,%0D%0A%3Cblockquote%3E%0D%0A%3Cfigure%
 20class%3D%22wp-block-image%20size-large%20is-resized%22%3E%3Cimg%20class
 %3D%22wp-image-2927%22%20src%3D%22https%3A%2F%2Fgruene-hksbr.de%2Fwp-cont
 ent%2Fuploads%2Fsites%2F25%2F2025%2F05%2Fsharepic_stadtradln_2025-800x800
 .png%22%20alt%3D%22%22%20%2F%3E%3C%2Ffigure%3E%0D%0A%3C%2Fblockquote%3E%0
 D%0A%0D%0A%0D%0A%0D%0A%3Cp%3E%26nbsp%3B%3C%2Fp%3E%0D%0A%0D%0A%0D%0A%0D%0A
 %3Cp%3EAuch%20dieses%20Jahr%20hei%C3%9Ft%20es%20wieder%3C%2Fp%3E%0D%0A%0D
 %0A%0D%0A%0D%0A%3Ch3%20class%3D%22wp-block-heading%22%3ERauf%20aufs%20Rad
 %20%E2%80%93%20f%C3%BCr%20Klima%2C%20Gesundheit%20und%20bessere%20Radwege
 %21%3C%2Fh3%3E%0D%0A%0D%0A%0D%0A%0D%0A%3Cdiv%20class%3D%22wp-block-media-
 text%20is-stacked-on-mobile%22%3E%0D%0A%3Cfigure%20class%3D%22wp-block-me
 dia-text__media%22%3E%3Cimg%20class%3D%22wp-image-2934%20size-full%22%20s
 rc%3D%22https%3A%2F%2Fgruene-hksbr.de%2Fwp-content%2Fuploads%2Fsites%2F25
 %2F2025%2F06%2Fth.jpg%22%20alt%3D%22%22%20%2F%3E%3C%2Ffigure%3E%0D%0A%3Cd
 iv%20class%3D%22wp-block-media-text__content%22%3E%0D%0A%3Cp%3EWir%20als%
 20Gr%C3%BCner%20Ortsverband%20H%C3%B6henkirchen-Siegertsbrunn%20sind%20mi
 t%20unserem%20Team%20%3Cstrong%3E%E2%80%9EGreen%20Machines%20%E2%80%93%20
 Gr%C3%BCne%20OV%20H%C3%B6Si%E2%80%9C%3C%2Fstrong%3E%20beim%20STADTRADELN%
 202025%20dabei%20und%20freuen%20uns%20auf%20viele%20Mitradelnde.%3C%2Fp%3
 E%0D%0A%3C%2Fdiv%3E%0D%0A%3C%2Fdiv%3E%0D%0A%0D%0A%0D%0A%0D%0A%3Cp%3E%3Cbr
 %20%2F%3EBeim%20STADTRADELN%20z%C3%A4hlt%20jeder%20Kilometer%20%E2%80%93%
 20egal%20ob%20zur%20Arbeit%2C%20zum%20Einkaufen%20oder%20einfach%20zum%20
 Spa%C3%9F.%20Gemeinsam%20zeigen%20wir%2C%20wie%20viele%20Menschen%20schon
 %20heute%20klimafreundlich%20unterwegs%20sind%20%E2%80%93%20und%20wie%20w
 ichtig%20eine%20bessere%20Radinfrastruktur%20vor%20Ort%20ist.%3C%2Fp%3E%0
 D%0A%0D%0A%0D%0A%0D%0A%3Cp%3E%3Cstrong%3ESo%20machst%20du%20mit%3A%3C%2Fs
 trong%3E%3C%2Fp%3E%0D%0A%0D%0A%0D%0A%0D%0A%3Cp%3E%F0%9F%8C%90%20Einfach%2
 0registrieren%20unter%20%3Ca%20href%3D%22https%3A%2F%2Fwww.stadtradeln.de
 %2Fhome%22%3Estadtradeln.de%3C%2Fa%3E%3Cbr%20%2F%3E%F0%9F%8F%98%20Kommune
 %3A%20%3Cstrong%3EH%C3%B6henkirchen-Siegertsbrunn%3C%2Fstrong%3E%20ausw%C
 3%A4hlen%3Cbr%20%2F%3E%F0%9F%94%8D%20Team%3A%20%3Cstrong%3E%E2%80%9EGreen
 %20Machines%20%E2%80%93%20Gr%C3%BCne%20OV%20H%C3%B6Si%E2%80%9C%3C%2Fstron
 g%3E%20suchen%2C%20oder%20diesen%20%3Ca%20href%3D%22https%3A%2F%2Fwww.sta
 dtradeln.de%2Findex.php%3Fid%3D171%26amp%3BL%3D0%26amp%3Bteam_preselect%3
 D64011%22%3ELINK%3C%2Fa%3E%20nutzen%3C%2Fp%3E%0D%0A%0D%0A%0D%0A%0D%0A%3Cp
 %3E%F0%9F%93%B1%20Mit%20der%20kostenlosen%20STADTRADELN-App%20kannst%20du
 %20deine%20Kilometer%20ganz%20einfach%20tracken%20und%20dich%20mit%20dem%
 20Team%20vernetzen.%3C%2Fp%3E%0D%0A%0D%0A%0D%0A%0D%0A%3Cdiv%20class%3D%22
 wp-block-columns%20is-layout-flex%20wp-container-core-columns-is-layout-9
 d6595d7%20wp-block-columns-is-layout-flex%22%3E%0D%0A%3Cdiv%20class%3D%22
 wp-block-column%20is-layout-flow%20wp-block-column-is-layout-flow%22%3E%0
 D%0A%3Cdiv%20class%3D%22wp-block-buttons%20is-layout-flex%20wp-block-butt
 ons-is-layout-flex%22%3E%0D%0A%3Cdiv%20class%3D%22wp-block-button%22%3E%3
 Ca%20class%3D%22wp-block-button__link%20wp-element-button%22%20href%3D%22
 https%3A%2F%2Fplay.google.com%2Fstore%2Fapps%2Fdetails%3Fid%3Dorg.klimabu
 endnis.Stadtradeln%26amp%3Bhl%3Dde%22%3EGoogle%20Play%20Store%3C%2Fa%3E%3
 C%2Fdiv%3E%0D%0A%3C%2Fdiv%3E%0D%0A%3C%2Fdiv%3E%0D%0A%0D%0A%0D%0A%0D%0A%3C
 div%20class%3D%22wp-block-column%20is-layout-flow%20wp-block-column-is-la
 yout-flow%22%3E%0D%0A%3Cdiv%20class%3D%22wp-block-buttons%20is-layout-fle
 x%20wp-block-buttons-is-layout-flex%22%3E%0D%0A%3Cdiv%20class%3D%22wp-blo
 ck-button%22%3E%3Ca%20class%3D%22wp-block-button__link%20wp-element-butto
 n%22%20href%3D%22https%3A%2F%2Fitunes.apple.com%2Fde%2Fapp%2Fstadtradeln%
 2Fid1359069906%3Fmt%3D8%22%3EApple%20App%20Store%3C%2Fa%3E%3C%2Fdiv%3E%0D
 %0A%3C%2Fdiv%3E%0D%0A%3C%2Fdiv%3E%0D%0A%3C%2Fdiv%3E%0D%0A%0D%0A%0D%0A%3Ch
 r%20class%3D%22wp-block-separator%20has-alpha-channel-opacity%22%20%2F%3E
 %0D%0A%0D%0A%0D%0A%3Cdiv%20class%3D%22wp-block-columns%20is-layout-flex%2
 0wp-container-core-columns-is-layout-9d6595d7%20wp-block-columns-is-layou
 t-flex%22%3E%0D%0A%3Cdiv%20class%3D%22wp-block-column%20is-layout-flow%20
 wp-block-column-is-layout-flow%22%3E%0D%0A%3Cp%3E%3Cstrong%3EAuftakttour%
 20Landkreis%20M%C3%BCnchen%3A%20%3C%2Fstrong%3ESonntag%2C%2029.%20Juni%20
 zum%20Volksfest%20Haar%20%3Cbr%20%2F%3E%F0%9F%91%89%20%3Ca%20href%3D%22ht
 tps%3A%2F%2Fgruene-hksbr.de%2Ftermine%2Fstadtradeln-auftaktfahrt-des-land
 kreises%2F%22%20target%3D%22_blank%22%20rel%3D%22noreferrer%20noopener%22
 %3EZum%20Termin%3C%2Fa%3E%3C%2Fp%3E%0D%0A%3C%2Fdiv%3E%0D%0A%0D%0A%0D%0A%0
 D%0A%3Cdiv%20class%3D%22wp-block-column%20is-layout-flow%20wp-block-colum
 n-is-layout-flow%22%3E%0D%0A%3Cp%3E%3Cstrong%3EGemeinsame%20OV%20Radltour
 %3A%20%3C%2Fstrong%3E06.%20.Juli%202025%20zur%20Kugler%20Alm%20%3Cbr%20%2
 F%3E%F0%9F%91%89%20%3Ca%20href%3D%22https%3A%2F%2Fgruene-hksbr.de%2Ftermi
 ne%2Fradltour-zur-kugleralm%2F%22%20target%3D%22_blank%22%20rel%3D%22nore
 ferrer%20noopener%22%3EZum%20Termin%3C%2Fa%3E%3C%2Fp%3E%0D%0A%3C%2Fdiv%3E
 %0D%0A%3C%2Fdiv%3E%0D%0A%0D%0A%0D%0A%3Chr%20class%3D%22wp-block-separator
 %20has-alpha-channel-opacity%22%20%2F%3E%0D%0A%0D%0A%0D%0A%3Cdiv%20class%
 3D%22wp-block-buttons%20is-layout-flex%20wp-block-buttons-is-layout-flex%
 22%3E%C2%A0%3C%2Fdiv%3E%0D%0A%0D%0A%0D%0A%0D%0A%3Cp%3E%3Cstrong%3EWir%20f
 reuen%20uns%20auf%20viele%20Kilometer%2C%20Begegnungen%20und%20Gespr%C3%A
 4che.%20%3C%2Fstrong%3E%F0%9F%92%9A%3C%2Fp%3E%0D%0A%0D%0A%0D%0A%0D%0A%3Cp
 %3E%26nbsp%3B%3C%2Fp%3E%0D%0A": \n\nAuch dieses Jahr heißt es wieder\n\
 nRauf aufs Rad – für Klima\, Gesundheit und bessere Radwege!\n\nWir al
 s Grüner Ortsverband Höhenkirchen-Siegertsbrunn sind mit unserem Team 
 „Green Machines – Grüne OV HöSi“ beim STADTRADELN 2025 dabei und 
 freuen uns auf viele Mitradelnde.\n\nBeim STADTRADELN zählt jeder Kilome
 ter – egal ob zur Arbeit\, zum Einkaufen oder einfach zum Spaß. Gemein
 sam zeigen wir\, wie viele Menschen schon heute klimafreundlich unterwegs
  sind – und wie wichtig eine bessere Radinfrastruktur vor Ort ist.\n\nS
 o machst du mit:\n\n🌐 Einfach registrieren unter stadtradeln.de🏘 Ko
 mmune: Höhenkirchen-Siegertsbrunn auswählen🔍 Team: „Green Machines
  – Grüne OV HöSi“ suchen\, oder diesen LINK nutzen\n\n📱 Mit der 
 kostenlosen STADTRADELN-App kannst du deine Kilometer ganz einfach tracke
 n und dich mit dem Team vernetzen.\n\nGoogle Play Store\n\nApple App Stor
 e\n\nAuftakttour Landkreis München: Sonntag\, 29. Juni zum Volksfest Haa
 r 👉 Zum Termin\n\nGemeinsame OV Radltour: 06. .Juli 2025 zur Kugler Al
 m 👉 Zum Termin\n\n \n\nWir freuen uns auf viele Kilometer\, Begegnung
 en und Gespräche. 💚\n\n 
CLASS:PUBLIC
DTSTART;TZID=Europe/Berlin:20250629
DTEND;TZID=Europe/Berlin:20250720
DTSTAMP:20260421T100129
END:VEVENT
END:VCALENDAR