BEGIN:VCALENDAR
VERSION:2.0
PRODID:gruene-hksbr.de
METHOD:PUBLISH
BEGIN:VTIMEZONE
TZID:Europe/Berlin
X-LIC-LOCATION:Europe/Berlin
BEGIN:DAYLIGHT
TZOFFSETFROM:+0100
TZOFFSETTO:+0200
TZNAME:CEST
DTSTART:19700329T020000
RRULE:FREQ=YEARLY;INTERVAL=1;BYDAY=-1SU;BYMONTH=3
END:DAYLIGHT
BEGIN:STANDARD
TZOFFSETFROM:+0200
TZOFFSETTO:+0100
TZNAME:CET
DTSTART:19701025T030000
RRULE:FREQ=YEARLY;INTERVAL=1;BYDAY=-1SU;BYMONTH=10
END:STANDARD
END:VTIMEZONE
BEGIN:VEVENT
UID:62911c7bf4a740e5d89239cfee69cf8c@gruene-hksbr.de
URL;VALUE=URI:https://gruene-hksbr.de/termine/stadtradeln-auftaktfahrt-de
 s-landkreises/
LOCATION:Volksfest Haar, Haar
SUMMARY:Stadtradeln – Auftaktfahrt des Landkreises
DESCRIPTION;ALTREP="data:text/html,%0D%0A%3Cp%3EAm%20Samstag%2C%20den%202
 9.%20Juni%202025%2C%20gibt%20es%20eine%20Auftakttour%20des%20Landkreises%
 20M%C3%BCnchen%20mit%20dem%20Ziel%20%3Cstrong%3EVolksfest%20in%20Haar.%3C
 %2Fstrong%3E%20%3C%2Fp%3E%0D%0A%0D%0A%0D%0A%0D%0A%3Cp%3EAlle%20Teilnehmen
 den%20treffen%20sich%20um%2016%3A00%20Uhr%20auf%20dem%20Haarer%20Volksfes
 t%2C%20wo%20Tische%20f%C3%BCr%20den%20Landkreis%20M%C3%BCnchen%20reservie
 rt%20sind.%20Die%20Tourdaten%20werden%20demn%C3%A4chst%20unter%C2%A0%3Ca%
 20href%3D%22https%3A%2F%2Ftouren-termine.adfc.de%2F%22%20target%3D%22_bla
 nk%22%20rel%3D%22noreferrer%20noopener%22%3Ehttps%3A%2F%2Ftouren-termine.
 adfc.de%3C%2Fa%3E%C2%A0ver%C3%B6ffentlicht.%3C%2Fp%3E%0D%0A%0D%0A%0D%0A%0
 D%0A%3Cp%3EMehr%20Infos%20zum%20Stadtradeln%20gibt%27s%20hier%3A%20%3Ca%2
 0href%3D%22https%3A%2F%2Fgruene-hksbr.de%2Ftermine%2Fstadtradeln-2025%2F%
 22%3Ehttps%3A%2F%2Fgruene-hksbr.de%2Ftermine%2Fstadtradeln-2025%2F%3C%2Fa
 %3E%3C%2Fp%3E%0D%0A%0D%0A%0D%0A%0D%0A%3Cp%3EInfos%20zu%20unserer%20gemein
 sam%20Ausfahrt%20zur%20Kugler%20Alm%2C%20gibts%20hier%3A%20%3Ca%20href%3D
 %22https%3A%2F%2Fgruene-hksbr.de%2Ftermine%2Fradltour-zur-kugleralm%2F%22
 %3Ehttps%3A%2F%2Fgruene-hksbr.de%2Ftermine%2Fradltour-zur-kugleralm%2F%3C
 %2Fa%3E%20und%20hier%20%3Ca%20href%3D%22https%3A%2F%2Fgruene-hksbr.de%2F2
 025%2F06%2F17%2Fradltour-zur-kugleralm%2F%22%3Ehttps%3A%2F%2Fgruene-hksbr
 .de%2F2025%2F06%2F17%2Fradltour-zur-kugleralm%2F%3C%2Fa%3E%20%3C%2Fp%3E%0
 D%0A%0D%0A%0D%0A%0D%0A%3Cp%3E%3C%2Fp%3E%0D%0A":Am Samstag\, den 29. Juni 
 2025\, gibt es eine Auftakttour des Landkreises München mit dem Ziel Vol
 ksfest in Haar.\n\nAlle Teilnehmenden treffen sich um 16:00 Uhr auf dem H
 aarer Volksfest\, wo Tische für den Landkreis München reserviert sind. 
 Die Tourdaten werden demnächst unter https://touren-termine.adfc.de ve
 röffentlicht.\n\nMehr Infos zum Stadtradeln gibt's hier: https://gruene-
 hksbr.de/termine/stadtradeln-2025/\n\nInfos zu unserer gemeinsam Ausfahrt
  zur Kugler Alm\, gibts hier: https://gruene-hksbr.de/termine/radltour-zu
 r-kugleralm/ und hier https://gruene-hksbr.de/2025/06/17/radltour-zur-kug
 leralm/
CLASS:PUBLIC
DTSTART;TZID=Europe/Berlin:20250629T160000
DTEND;TZID=Europe/Berlin:20250629T230000
DTSTAMP:20260421T114343
END:VEVENT
END:VCALENDAR